BEGIN:VCALENDAR
VERSION:2.0
PRODID:icalendar-ruby
CALSCALE:GREGORIAN
BEGIN:VEVENT
DTSTAMP:20260421T085902Z
UID:1d281d5b-22b8-4c14-85c4-5676bf35baa4
DTSTART;VALUE=DATE:20201010
DESCRIPTION:Property ID# 489560\, Time: 12:00PM
SUMMARY:Auction for 
END:VEVENT
END:VCALENDAR
