BEGIN:VCALENDAR
VERSION:2.0
PRODID:icalendar-ruby
CALSCALE:GREGORIAN
BEGIN:VEVENT
DTSTAMP:20260419T130813Z
UID:ab1f4689-9e6b-4fc8-8a5f-98767021bbc9
DTSTART;VALUE=DATE:20201008
DESCRIPTION:Property ID# 489561\, Time: 12:00PM
SUMMARY:Auction for 
END:VEVENT
END:VCALENDAR
