BEGIN:VCALENDAR
VERSION:2.0
PRODID:icalendar-ruby
CALSCALE:GREGORIAN
BEGIN:VEVENT
DTSTAMP:20260420T135122Z
UID:329a36c6-b03e-48c9-9488-1e74a706bf0d
DTSTART;VALUE=DATE:20221103
DESCRIPTION:Property ID# 545531\, Locatoin: Grenadier House\, 98 Moorhouse 
 Avenue (unless sold prior)\, Time: 10:00AM
SUMMARY:Auction for 
END:VEVENT
END:VCALENDAR
